Workbook
Name RAG: '[1]Masterlist of issues'!$F$3:$F$5
Name Region: [2]LOV!$A$2:$A$5

Sheet  Funding Allocations
D1: Programme Funding Allocations to each County
C2: Carlow | D2: Cavan | E2: Clare | F2: Cork | G2: Donegal | H2: Dublin | I2: Galway | J2: Kerry | K2: Kildare | L2: Kilkenny | M2: Laois | N2: Leitrim | O2: Limerick | P2: Longford | Q2: Louth | R2: Mayo | S2: Meath | T2: Monaghan | U2: Offaly | V2: Roscommon | W2: Sligo | X2: Tipperary | Y2: Waterford | Z2: Westmeath | AA2: Wexford | AB2: Wicklow | AC2: Totals
B3: Overall Totals 2024 | C3: ='2024 Allocations'!B47 -> 6800018 | D3: ='2024 Allocations'!C47 -> 22820484 | E3: ='2024 Allocations'!D47 -> 19218516 | F3: ='2024 Allocations'!E47 -> 26902320 | G3: ='2024 Allocations'!F47 -> 35669205 | H3: ='2024 Allocations'!G47 -> 43061118 | I3: ='2024 Allocations'!H47 -> 35467518 | J3: ='2024 Allocations'!I47 -> 21559064 | ... X3: ='2024 Allocations'!W47 -> 22971436 | Y3: ='2024 Allocations'!W47 -> 22971436 | Z3: ='2024 Allocations'!X47 -> 11320302 | AA3: ='2024 Allocations'!Y47 -> 6796319.4 | AB3: ='2024 Allocations'!Z47 -> 14372615 | AC3: =SUM(C3:AB3) -> 4.8441374e+08
B4: Overall Totals 2023 | C4: ='2023 Allocations'!B53 -> 7426231.9 | D4: ='2023 Allocations'!C53 -> 6653594.4 | E4: ='2023 Allocations'!D53 -> 9167222.7 | F4: ='2023 Allocations'!E53 -> 20040384 | G4: ='2023 Allocations'!F53 -> 15433536 | H4: ='2023 Allocations'!G53 -> 44308707 | I4: ='2023 Allocations'!H53 -> 32086354 | J4: ='2023 Allocations'!I53 -> 13378405 | ... AB4: ='2023 Allocations'!AA53 -> 6695423.9 | AC4: =SUM(C4:AB4) -> 2.8751647e+08
B5: Overall Totals 2022 | C5: ='2022 Allocations'!B45 -> 8287249.8 | D5: ='2022 Allocations'!C45 -> 17295296 | E5: ='2022 Allocations'!D45 -> 21085378 | F5: ='2022 Allocations'!E45 -> 46950147 | G5: ='2022 Allocations'!F45 -> 29161847 | H5: ='2022 Allocations'!G45 -> 34010239 | I5: ='2022 Allocations'!H45 -> 26822093 | J5: ='2022 Allocations'!I45 -> 15548260 | ... AB5: ='2022 Allocations'!AA45 -> 11218219 | AC5: =SUM(C5:AB5) -> 4.7184847e+08
B6: Overall Totals 2021 | C6: ='2021Allocations'!B49 -> 3768031.2 | D6: ='2021Allocations'!C49 -> 8991076.7 | E6: ='2021Allocations'!D49 -> 8369828.1 | F6: ='2021Allocations'!E49 -> 24773629 | G6: ='2021Allocations'!F49 -> 32213381 | H6: ='2021Allocations'!G49 -> 36043085 | I6: ='2021Allocations'!H49 -> 22875636 | J6: ='2021Allocations'!I49 -> 15007151 | ... AB6: ='2021Allocations'!AA49 -> 8302296 | AC6: =SUM(C6:AB6) -> 3.4816411e+08
B7: Overall Totals 2020 | C7: ='2020 Allocations'!C47 -> 4966503.3 | D7: ='2020 Allocations'!D47 -> 7414798.5 | E7: ='2020 Allocations'!E47 -> 8141550.5 | F7: ='2020 Allocations'!F47 -> 21775910 | G7: ='2020 Allocations'!G47 -> 15266980 | H7: ='2020 Allocations'!H47 -> 52729925 | I7: ='2020 Allocations'!I47 -> 22436332 | J7: ='2020 Allocations'!J47 -> 12265521 | ... AB7: ='2020 Allocations'!AB47 -> 9253360.6 | AC7: =SUM(C7:AB7) -> 3.0683527e+08
B9: Totals 2020-2024 | C9: =SUM(C3:C7) -> 31248034 | D9: =SUM(D3:D7) -> 63175250 | E9: =SUM(E3:E7) -> 65982495 | F9: =SUM(F3:F7) -> 1.4044239e+08 | G9: =SUM(G3:G7) -> 1.2774495e+08 | H9: =SUM(H3:H7) -> 2.1015307e+08 | I9: =SUM(I3:I7) -> 1.3968793e+08 | J9: =SUM(J3:J7) -> 77758401 | ... AC9: =SUM(AC3:AC7) -> 1.8987781e+09

Sheet 2024 Allocations
A1: 2024 County by County Allocations
B2: Carlow | C2: Cavan | D2: Clare | E2: Cork | F2: Donegal | G2: Dublin | H2: Galway | I2: Kerry | J2: Kildare | K2: Kilkenny | L2: Laois | M2: Leitrim | N2: Limerick | O2: Longford | P2: Louth | Q2: Mayo | R2: Meath | S2: Monaghan | T2: Offaly | U2: Roscommon | V2: Sligo | W2: Tipperary | X2: Waterford | Y2: Westmeath | Z2: Wexford | AA2: Wicklow
A3: Scheme/Programme name | B3: € | C3: € | D3: € | E3: € | F3: € | G3: € | H3: € | I3: € | J3: € | K3: € | L3: € | M3: € | N3: € | O3: € | P3: € | Q3: € | R3: € | S3: € | T3: € | U3: € | V3: € | W3: € | X3: € | Y3: € | Z3: € | AA3: €
A4: AEC Officer Payments(30k for LAs part of Atlantic Corridor ) | D4: 30000 | F4: 30000 | H4: 60000 | I4: 30000 | M4: 30000 | N4: 30000 | Q4: 30000 | U4: 30000 | V4: 30000
A5: BCP Capitation Grants T1 | H5: 10555.5
A6: BCP RSP (Retail Service Provided) | B6: 5732.19 | C6: 11213.42 | D6: 19452.4 | E6: 20824.41 | F6: 9540.05 | G6: 7162 | H6: 16897.41 | I6: 8227.93 | J6: 2378.5 | K6: 7205.83 | L6: 5491.46 | M6: 8786.3 | N6: 23872.71 | O6: 11257.18 | P6: 6941.62 | Q6: 11761.27 | R6: 13636.89 | S6: 14734.23 | T6: 8636.74 | U6: 20886.1 | V6: 7239.71 | W6: 29750.55 | X6: 3171.33 | Y6: 6493.39 | Z6: 9018.83 | AA6: 7252.73
A7: BCP Thematic Project
A8: BCP Launch Support
A9: Broadband Officer Payments (€42k per Local Authority) | B9: 42000 | C9: 42000 | D9: 42000 | E9: 84000 | F9: 42000 | G9: 126000 | H9: 42000 | I9: 42000 | J9: 42000 | K9: 42000 | L9: 42000 | M9: 42000 | N9: 42000 | O9: 42000 | P9: 42000 | Q9: 42000 | R9: 42000 | S9: 42000 | T9: 42000 | U9: 42000 | V9: 42000 | W9: 42000 | X9: 42000 | Y9: 42000 | Z9: 42000 | AA9: 42000
A10: CLÁR | B10: 153820 | C10: 351330 | D10: 283129 | E10: 455888 | F10: 450000 | G10: 0 | H10: 305247 | I10: 375365 | J10: 0 | K10: 120552 | L10: 202410 | M10: 304185 | N10: 280541 | O10: 339405.16 | P10: 255660 | Q10: 176616 | R10: 90649 | S10: 140617 | T10: 205617 | U10: 359628 | V10: 370172 | W10: 229975 | X10: 157349 | Y10: 350501 | Z10: 0 | AA10: 76865
A11: Coillte MOU Outdoor Recreation
A12: Community Centre Investment Fund
A13: Community Enhancement Programme (Local Enhancement Programme 2024) | B13: 142867 | C13: 145101 | D13: 166057 | E13: 477764 | F13: 258777 | G13: 1209136 | H13: 319700 | I13: 179946 | J13: 208497 | K13: 151823 | L13: 153591 | M13: 119730 | N13: 228687 | O13: 134867 | P13: 195412 | Q13: 193021 | R13: 185387 | S13: 134853 | T13: 162599 | U13: 138642 | V13: 141993 | W13: 213655 | X13: 190946 | Y13: 153762 | Z13: 216851 | AA13: 176338
A14: Community Development Pilot Programme | D14: 125000 | F14: 125000 | G14: 125000 | K14: 125000 | O14: 125000 | R14: 125000 | Z14: 125000
A15: Community Recognition Fund | B15: 1171621 | C15: 1155190 | D15: 2608408 | E15: 3228713 | F15: 3391917 | G15: 6694307 | H15: 3006127 | I15: 3946095 | J15: 830007 | K15: 867987 | L15: 1012996 | M15: 2212974 | N15: 1400378 | O15: 893486 | P15: 1317173 | Q15: 2428540 | R15: 1188066 | S15: 914972 | T15: 1055308 | U15: 1002434 | V15: 1742899 | W15: 1465434 | X15: 1436394 | Y15: 1740646 | Z15: 1703377 | AA15: 1584550
A16: Community Services Programme | B16: 330075 | C16: 336750 | D16: 1491711 | E16: 2963066 | F16: 4492263 | G16: 11192804 | H16: 3178963 | I16: 2046449 | J16: 537763 | K16: 638449 | L16: 434916 | M16: 1601607 | N16: 1795066 | O16: 516850 | P16: 1965275 | Q16: 4485131 | R16: 1141250 | S16: 1558663 | T16: 1486786 | U16: 2820149 | V16: 853525 | W16: 927425 | X16: 1347600 | Y16: 1159712 | Z16: 2599613 | AA16: 1829038
A17: Digital Innovation Programme
A18: Dublin North East Inner City (NEIC) | G18: 7500000
A19: Empowering Communities Programme | E19: 140000 | F19: 120000 | G19: 620000 | H19: 140000 | J19: 140000 | N19: 110000 | O19: 120000 | Q19: 150000 | Y19: 140000 | Z19: 140000
A20: LEADER | B20: 0 | C20: 0 | D20: 0 | E20: 0 | F20: 0 | G20: 0 | H20: 0 | I20: 0 | J20: 0 | K20: 0 | L20: 0 | M20: 0 | N20: 0 | O20: 0 | P20: 0 | Q20: 0 | R20: 0 | S20: 0 | T20: 0 | U20: 0 | V20: 0 | W20: 0 | X20: 0 | Y20: 0 | Z20: 0 | AA20: 0
A21: Libraries Development - Libraries Capital Programme 2023 - 2027 (Capital Projects) | F21: 4450000 | J21: 4900000 | P21: 3000000 | S21: 1250000 | V21: 1300998 | W21: 3000000 | Z21: 1705000 | AA21: 3000000
A22: Libraries Development - Libraries Capital Programme 2023 - 2027 (Mobile Library Vehicles) | D22: 202500 | H22: 495000 | I22: 225000 | J22: 232500 | K22: 180000 | N22: 225090 | P22: 172500 | U22: 225000 | V22: 225090 | X22: 225000 | Z22: 262500
A23: Libraries Development - Dormant Accounts Fund 2024 | B23: 15138.44 | C23: 14270.72 | D23: 6913.17 | E23: 26737.74 | F23: 13678.09 | G23: 62403.05 | H23: 11936.7 | I23: 12839.42 | J23: 18628.92 | K23: 11205 | L23: 13141.8 | M23: 13994.87 | N23: 14606.1 | O23: 14519.42 | P23: 11939.62 | Q23: 14281.66 | R23: 13655.66 | S23: 12955.5 | T23: 13558.7 | U23: 13577.22 | V23: 13505.4 | W23: 13821.48 | X23: 13340.3 | Y23: 13374.34 | Z23: 2482.11 | AA23: 13494.57
A24: Local Community Development Committees | B24: 78293.76 | C24: 80735.92 | D24: 85080.29 | E24: 219344.2 | F24: 106000.11 | G24: 484697 | H24: 169254.78 | I24: 90674.06 | J24: 100060.89 | K24: 82535.59 | L24: 82206.54 | M24: 75000 | N24: 112050.37 | O24: 77645.35 | P24: 97487.8 | Q24: 91600.29 | R24: 95498.3 | S24: 76558.06 | T24: 84126.89 | U24: 77606.75 | V24: 76805.09 | W24: 97728.66 | X24: 91878.11 | Y24: 83060.93 | Z24: 100351.58 | AA24: 88718.69
A25: Local Improvement Scheme | B25: 564964.63 | C25: 690084.43 | D25: 1209821.1 | E25: 1564964.6 | F25: 1564964.6 | G25: 0 | H25: 1564964.6 | I25: 1545758 | J25: 609749.6 | K25: 752874.02 | L25: 635733.63 | M25: 592594.12 | N25: 979522.41 | O25: 564964.63 | P25: 564964.63 | Q25: 1530680 | R25: 776787.64 | S25: 564964.63 | T25: 728981.36 | U25: 879428.16 | V25: 674891.04 | W25: 1493546.4 | X25: 681196.05 | Y25: 675554.73 | Z25: 850435.7 | AA25: 737609.27
A26: Local/Regional Development Supports - B.4.1 Subhead
A27: County Outdoor Recreation Plans - NORS | B27: 30000 | C27: 30000 | D27: 30000 | G27: 30000 | I27: 30000 | J27: 30000 | K27: 30000 | L27: 30000 | N27: 30000 | O27: 30000 | P27: 30000 | Q27: 30000 | R27: 30000 | S27: 30000 | T27: 30000 | V27: 30000 | W27: 30000 | X27: 30000 | Y27: 30000 | Z27: 30000 | AA27: 30000
A28: Sport Ireland - County Outdoor Recreation Officer Posts
A29: Walks Scheme (delivered by Local Development Companies) | C29: 79676.542 | D29: 196359.95 | E29: 1317865 | F29: 183448.29 | H29: 174965.52 | I29: 665574.53 | K29: 176356.72 | L29: 111207.41 | M29: 143439.63 | N29: 156770.84 | P29: 148746.51 | Q29: 397470 | T29: 35909.28 | U29: 274395.84 | V29: 175926.13 | W29: 345617.84 | X29: 146555.95 | AA29: 151897.51
A30: Uplands Supports | I30: 15000 | Q30: 44650
A31: Outdoor Recreation Infrastructure Scheme | B31: 175500 | C31: 745915 | D31: 984554 | E31: 1010584 | F31: 1167791 | G31: 0 | H31: 605002 | I31: 1317616 | J31: 155700 | K31: 1090630 | L31: 872750 | M31: 874087 | N31: 799062 | O31: 580000 | P31: 194119 | Q31: 1158474 | R31: 1103907 | S31: 1179296 | T31: 591954 | U31: 825407 | V31: 736000 | W31: 816680 | X31: 1060372 | Y31: 395935 | Z31: 530458 | AA31: 821505
A32: Public Participation Networks(up to €85k per county | B32: 85700 | C32: 85700 | D32: 85700 | E32: 171400 | F32: 85700 | G32: 342800 | H32: 171400 | I32: 85700 | J32: 85700 | K32: 85700 | L32: 85700 | M32: 85700 | N32: 85700 | O32: 85700 | P32: 85700 | Q32: 85700 | R32: 85700 | S32: 85700 | T32: 85700 | U32: 85700 | V32: 85700 | W32: 85700 | X32: 85700 | Y32: 85700 | Z32: 85700 | AA32: 85700
A33: Rural Regeneration and Development Fund | B33: 2189908 | C33: 17027259 | D33: 8765000 | E33: 7371034 | F33: 14244749 | H33: 14156283 | I33: 7100780 | J33: 3236363 | K33: 1885138 | L33: 4057178 | M33: 7884834 | N33: 13585722 | Q33: 12012924 | S33: 15700237 | T33: 12256727 | U33: 6207622 | V33: 8474869 | W33: 11236948 | X33: 3273638.4 | Z33: 2331825.8
A34: SICAP Lots | B34: 700184 | C34: 968229 | D34: 1116451 | E34: 4028270 | F34: 2492311 | G34: 11870101 | H34: 2676668 | I34: 1942804 | J34: 1381815 | K34: 823235 | L34: 763980 | M34: 623851 | N34: 2627372 | O34: 643044 | P34: 1651231 | Q34: 1632100 | R34: 556801 | S34: 751090 | T34: 990371 | U34: 752143 | V34: 736008 | W34: 1569438 | X34: 1408392 | Y34: 1000117 | Z34: 2139144 | AA34: 1617390
A35: SICAP Additional Funding for Ukrainian Arrivals | B35: 120098 | C35: 148693 | D35: 442217 | E35: 978203 | F35: 640896 | G35: 1721375 | H35: 494134 | I35: 732547 | J35: 191325 | K35: 140152 | L35: 143123 | M35: 150996 | N35: 302511 | O35: 79026 | P35: 230987 | Q35: 428625 | R35: 264781 | S35: 100416 | T35: 110963 | U35: 103016 | V35: 209299 | W35: 251412 | X35: 246807 | Y35: 243019 | Z35: 320559 | AA35: 301174
A36: Smart Community & Village Pilot Project
A37: Social Enterprise Scaling - Up Fund €1.4 Million
A38: Social Enterprise -Social Finance Hybrid Pilot Scheme launched €890k paid to Rethink ireland administring scheme.
A39: Tidy Towns
A40: Town and Village Renewal | B40: 832155 | C40: 743087 | D40: 1135281 | E40: 1156746 | F40: 750000 | G40: 120150 | H40: 750000 | I40: 941250 | J40: 348000 | K40: 995000 | L40: 968119 | M40: 745602 | N40: 680805 | O40: 817885 | P40: 357163 | Q40: 835432 | R40: 1185017 | S40: 750000 | T40: 500000 | U40: 999999 | V40: 1000000 | W40: 921099 | X40: 707671 | Y40: 506556 | Z40: 997590 | AA40: 725000
...

Sheet 2023 Allocations
A1: 2023 County by County Allocations
B2: Carlow | C2: Cavan | D2: Clare | E2: Cork | F2: Donegal | G2: Dublin | H2: Galway | I2: Kerry | J2: Kildare | K2: Kilkenny | L2: Laois | M2: Leitrim | N2: Limerick | O2: Longford | P2: Louth | Q2: Mayo | R2: Meath | S2: Monaghan | T2: Offaly | U2: Roscommon | V2: Sligo | W2: Tipperary | X2: Waterford | Y2: Westmeath | Z2: Wexford | AA2: Wicklow
A3: Scheme Name | B3: € | C3: € | D3: € | E3: € | F3: € | G3: € | H3: € | I3: € | J3: € | K3: € | L3: € | M3: € | N3: € | O3: € | P3: € | Q3: € | R3: € | S3: € | T3: € | U3: € | V3: € | W3: € | X3: € | Y3: € | Z3: €
A4: AEC Officer Payments(30k for LAs part of Atlantic Corridor ) | D4: 30000 | F4: 30000 | H4: 60000 | I4: 30000 | M4: 30000 | N4: 30000 | Q4: 30000 | U4: 30000 | V4: 30000
A5: BCP Capitation Grants T1 | E5: 1206.85 | H5: 2340 | R5: 212.19 | T5: 5179
A6: BCP RSP (Retail Service Provided) | B6: 5732.19 | C6: 11213.42 | D6: 19452.4 | E6: 20824.41 | F6: 9540.05 | G6: 7162 | H6: 16897.41 | I6: 8227.93 | J6: 2378.5 | K6: 7205.83 | L6: 5491.46 | M6: 8786.3 | N6: 23872.71 | O6: 11257.18 | P6: 6941.62 | Q6: 11761.27 | R6: 13636.89 | S6: 14734.23 | T6: 8636.74 | U6: 20886.1 | V6: 7239.71 | W6: 29750.55 | X6: 3171.33 | Y6: 6493.39 | Z6: 9018.83 | AA6: 7252.73
A7: BCP Thematic Project
A8: BCP Launch Support | R8: 1050.64
A9: Broadband Officer Payments (€42k per Local Authority) | B9: 42000 | C9: 42000 | D9: 42000 | E9: 84000 | F9: 42000 | G9: 168000 | H9: 84000 | I9: 42000 | J9: 42000 | K9: 42000 | L9: 42000 | M9: 42000 | N9: 42000 | O9: 42000 | P9: 42000 | Q9: 42000 | R9: 42000 | S9: 42000 | T9: 42000 | U9: 42000 | V9: 42000 | W9: 42000 | X9: 42000 | Y9: 42000 | Z9: 42000 | AA9: 42000
A10: CLÁR | B10: 113269 | C10: 235492 | D10: 439513 | E10: 259470 | F10: 432534 | G10: 0 | H10: 542943 | I10: 511255 | K10: 174916 | L10: 49780 | M10: 214706 | N10: 441732 | O10: 158785 | P10: 159288 | Q10: 898992 | R10: 149125 | S10: 489700 | U10: 455785 | V10: 206207 | W10: 326924 | X10: 74889 | Y10: 291411 | AA10: 144034
A11: Coillte MOU Outdoor Recreation
A12: Community Centre Investment Fund | B12: 4135178 | E12: 1595574 | H12: 10343255 | Q12: 1152193 | R12: 1915000 | S12: 2667785 | T12: 1407660 | V12: 3814701 | Z12: 3195954
A13: Community Enhancement Programme (Community Support Fund 2022)
A14: Community Development Pilot Programme | D14: 125000 | F14: 125000 | G14: 250000 | H14: 125000 | K14: 125000 | N14: 125000 | O14: 125000 | R14: 125000 | Z14: 125000
A15: Community Recognition Fund | B15: 937967 | C15: 1191206 | D15: 2925549 | E15: 3470550 | F15: 3114395 | G15: 7668208 | H15: 3245208 | I15: 4403073 | J15: 807328 | K15: 948063 | L15: 1014607 | M15: 2204319 | N15: 1389505 | O15: 653453 | P15: 1515727 | Q15: 2354126 | R15: 1231685 | S15: 881203 | T15: 669691 | U15: 689057 | V15: 1424596 | W15: 997861 | X15: 1421869 | Y15: 1649996 | Z15: 1509870 | AA15: 1680887
A16: Community Services Programme | B16: 303363 | C16: 312330 | D16: 1372650 | E16: 2718750.5 | F16: 4083707.5 | G16: 10653304 | H16: 2668321.5 | I16: 1835967.1 | J16: 495044.5 | K16: 615693 | L16: 417020 | M16: 1485100.5 | N16: 1719582 | O16: 470528 | P16: 1788178 | Q16: 4020554 | R16: 1052770.5 | S16: 1383133.5 | T16: 1306869.5 | U16: 2522904 | V16: 792908 | W16: 806308.5 | X16: 1171737.5 | Y16: 1077638.5 | Z16: 2339838 | AA16: 1674013
A17: Community & Voluntary Energy Support Scheme (CVESS) | B17: 17592 | C17: 19315 | D17: 17222 | E17: 77011 | F17: 51497 | G17: 415403 | H17: 65315 | I17: 24533 | J17: 25829 | K17: 9148 | L17: 16211 | M17: 14946 | N17: 39214 | O17: 4904 | P17: 54933 | Q17: 57859 | R17: 41226 | S17: 28050 | T17: 15560 | U17: 16544 | V17: 7376 | W17: 27265 | X17: 17139 | Y17: 20916 | Z17: 26348 | AA17: 45498
A18: Digital Innovation Programme | I18: 95360 | V18: 13353
A19: Dublin North East Inner City funding and legacy RAPID payments | G19: 7500000
A20: Empowering Communities Programme | E20: 140000 | F20: 120000 | G20: 770000 | H20: 140000 | J20: 140000 | N20: 110000 | O20: 120000 | Q20: 150000 | Y20: 140000 | Z20: 140000
A21: LEADER | B21: 51735 | C21: 113532 | D21: 206334.25 | E21: 749689.16 | F21: 337986.37 | H21: 742254.59 | I21: 671001.07 | J21: 47615 | K21: 515461.5 | L21: 99578.8 | M21: 631610.1 | N21: 350886.08 | O21: 123877.75 | P21: 149483 | Q21: 263758.75 | R21: 82980.9 | S21: 159006.19 | T21: 128351 | U21: 149986.06 | V21: 240645.2 | W21: 198269.46 | X21: 227771.38 | Y21: 424196.39 | Z21: 394310.57 | AA21: 150109
A22: Libraries Development - Libraries Capital Programme 2023 | K22: 108456
A23: Libraries Development - Dormant Accounts Funding 2023 | B23: 5479 | C23: 5016 | D23: 5601 | E23: 62013 | F23: 5033 | G23: =44343+65693 -> 110036 | H23: 58259 | I23: 9015 | J23: 5374 | K23: 11424 | L23: 32053 | M23: 7680 | N23: 5235 | O23: 6032 | P23: 4916 | Q23: 4867 | R23: 31383 | S23: 30614 | T23: 5468 | U23: 5014 | V23: 5014 | W23: 5344 | X23: 21438 | Y23: 5040 | Z23: 25728 | AA23: 28893
A24: Libraries Development - ICT Funding 2023 | B24: 12972 | C24: 32564 | D24: 110115 | E24: 43749 | F24: 28730 | G24: 156479 | H24: 115618 | I24: 122052 | J24: 95714 | K24: 26745 | L24: 40399 | M24: 16750 | N24: 31687 | O24: 10494 | P24: 16866 | Q24: 59129 | R24: 42226 | S24: 33802 | T24: 58855 | U24: 20080 | V24: 23537 | W24: 79809 | X24: 22470 | Z24: 63768 | AA24: 13808
A25: Local Community Development Committees | B25: 58241 | C25: 79330 | D25: 168834 | E25: 173056 | F25: 69326 | G25: 279922 | H25: 152170 | I25: 79663 | J25: 30733 | K25: 31599 | L25: 35219 | M25: 34640 | N25: 65641 | O25: 73091 | P25: 73934 | Q25: 60986 | R25: 68718 | S25: 48426 | T25: 75392 | U25: 71175 | V25: 51815 | W25: 44766 | X25: 66864 | Y25: 64628 | Z25: 72560 | AA25: 79663
A26: Local Improvement Scheme | B26: 304736 | C26: 336913 | D26: 597910 | E26: 1065151 | F26: 940509 | H26: 1204736 | I26: 797367 | J26: 304736 | K26: 361156 | L26: 304736 | M26: 304736 | N26: 478587 | O26: 304736 | P26: 304736 | Q26: 1004736 | R26: 407406 | S26: 304736 | T26: 348777 | U26: 442825 | V26: 330752 | W26: 744914 | X26: 269062 | Y26: 321095 | Z26: 411705 | AA26: 353247
A27: Local/Regional Development Supports - B.4.1 Subhead | E27: 30000 | F27: 173000 | G27: 645400 | N27: 20000 | Q27: 129000
A28: Walks Scheme | B28: 0 | C28: 69560 | D28: 197528 | E28: 1289633 | F28: 162545 | G28: 0 | H28: 160404 | I28: 650041 | J28: 0 | K28: 201468 | L28: 83577 | M28: 145566 | N28: 132190 | O28: 0 | P28: 139604 | Q28: 499032 | R28: 0 | S28: 0 | T28: =11554*2 -> 23108 | U28: 257732 | V28: 159305 | W28: 346117 | X28: 169606 | AA28: 135875
A29: Outdoor Recreation Infrastructure Scheme | B29: 0 | C29: 72194 | D29: 100000 | E29: 125650 | F29: 129700 | G29: 40500 | H29: 204327 | I29: 100000 | J29: 90000 | K29: 99000 | L29: 44280 | M29: 56893 | N29: 84200 | O29: 99000 | P29: 0 | Q29: 100000 | R29: 50000 | S29: 100000 | T29: 49500 | U29: 100000 | V29: 150000 | W29: 99500 | X29: 100000 | Y29: 100000 | Z29: 83373 | AA29: 90000
A30: Public Participation Networks(up to €85k per county | B30: 85700 | C30: 82716.94 | D30: 85700 | E30: 153698.85 | F30: 85700 | G30: 418522 | H30: 168522.6 | I30: 84859.88 | J30: 85700 | K30: 82497.65 | L30: 84752.08 | M30: 60000 | N30: 84447.19 | O30: 85172.28 | P30: 81660.05 | Q30: 83346.26 | R30: 85700 | S30: 85700 | T30: 85700 | U30: 60000 | V30: 84451.11 | W30: 85700 | X30: 85700 | Y30: 84930.16 | Z30: 83387.06 | AA30: 85700
A31: Rural Regeneration and Development Fund | B31: 0 | C31: 2075449 | D31: 413902.16 | E31: 0 | F31: 58687 | G31: 0 | H31: 0 | I31: 428060.5 | J31: 3329781 | K31: 401644.1 | L31: 621247 | M31: 1221120 | N31: 1098365.7 | O31: 0 | P31: 0 | Q31: 278513.6 | R31: 531216.85 | S31: 2576770.2 | T31: 43744.8 | U31: 2009176.3 | V31: 182237.14 | W31: 903559.6 | X31: 1105834 | Y31: 0 | Z31: 0 | AA31: 0
A32: SICAP Lots | B32: 655941 | C32: 907049 | D32: 1045905 | E32: 3773733 | F32: 2334828 | G32: 11120053 | H32: 2507535 | I32: 1820042 | J32: 1294501 | K32: 771216 | L32: 715706 | M32: 584431 | N32: 2461354 | O32: 602411 | P32: 1546893 | Q32: 1528971 | R32: 521618 | S32: 703630 | T32: 927791 | U32: 704617 | V32: 689501 | W32: 1470268 | X32: 1319399 | Y32: 936922 | Z32: 2003976 | AA32: 1515191
A33: SICAP Additional Funding for Ukrainian Arrivals | B33: 189859 | C33: 334412 | D33: 469128 | E33: 1028278 | F33: 623700 | G33: 1858633 | H33: 538157 | I33: 809144 | J33: 180973 | K33: 175146 | L33: 139437 | M33: 175280 | N33: 373735 | O33: 90478 | P33: 206913 | Q33: 405673 | R33: 234373 | S33: 84838 | T33: 115842 | U33: 106361 | V33: 192011.98 | W33: 250564 | X33: 275758 | Y33: 189549 | Z33: 282158 | AA33: 348443
A34: Smart Community & Village Pilot Project
A35: Social Enterprise Scaling - Up Fund €1.4 Million | D35: 100000 | E35: 56710 | F35: 300000 | G35: 200109 | H35: 104298 | N35: 152084 | Q35: 100000 | S35: 30195 | U35: 107038 | V35: 86387 | X35: 97772 | Z35: 56634
A36: Social Enterprise -Social Finance Hybrid Pilot Scheme launched €890k paid to Rethink ireland administring scheme.
A37: Tidy Towns | B37: 27000 | C37: 31000 | D37: 63000 | E37: 158000 | F37: 63000 | G37: 145000 | H37: 65000 | I37: 53000 | J37: 72000 | K37: 40000 | L37: 34000 | M37: 23000 | N37: 80000 | O37: 33000 | P37: 42000 | Q37: 44000 | R37: 67000 | S37: 29000 | T37: 34000 | U37: 37000 | V37: 31000 | W37: 109000 | X37: 28000 | Y37: 45000 | Z37: 50000 | AA37: 55000
A38: Town and Village Renewal
A39: TVRS Building Acquisition Measure | B39: 275000 | C39: 485000 | D39: 350000 | E39: 445000 | F39: 265000 | G39: 500000 | I39: 500000 | K39: 450000 | L39: 175000 | M39: 485000 | N39: 160000 | O39: 165000 | Q39: 225000 | R39: 410000 | S39: 500000 | T39: 300000 | V39: 125000 | W39: 500000 | X39: 500000 | Y39: 300000 | Z39: 500000
A40: Volunteering B3 | B40: 130075 | C40: 130075 | D40: 130075 | E40: 133085 | F40: 139535 | G40: 747662.5 | H40: 143190 | I40: 130075 | J40: 130075 | K40: 130075 | L40: 69575 | M40: 130075 | N40: 157595 | O40: 130075 | P40: 130075 | Q40: 130075 | R40: 130075 | S40: 130075 | T40: 130075 | U40: 130075 | V40: 130075 | W40: 168130 | X40: 130075 | Y40: 130075 | Z40: 130075 | AA40: 138460
...

Sheet 2022 Allocations
A1: 2022 County by County Allocations
B2: Carlow | C2: Cavan | D2: Clare | E2: Cork | F2: Donegal | G2: Dublin | H2: Galway | I2: Kerry | J2: Kildare | K2: Kilkenny | L2: Laois | M2: Leitrim | N2: Limerick | O2: Longford | P2: Louth | Q2: Mayo | R2: Meath | S2: Monaghan | T2: Offaly | U2: Roscommon | V2: Sligo | W2: Tipperary | X2: Waterford | Y2: Westmeath | Z2: Wexford | AA2: Wicklow
A3: Scheme Name | B3: € | C3: € | D3: € | E3: € | F3: € | G3: € | H3: € | I3: € | J3: € | K3: € | L3: € | M3: € | N3: € | O3: € | P3: € | Q3: € | R3: € | S3: € | T3: € | U3: € | V3: € | W3: € | X3: € | Y3: € | Z3: €
A4: AEC Officer Payments(30k for LAs part of Atlantic Corridor ) | D4: 15000 | F4: 15000 | H4: 30000 | I4: 15000 | M4: 15000 | N4: 15000 | Q4: 15000 | U4: 15000 | V4: 15000
A5: CLÁR | B5: 86983.2 | C5: 616057.78 | D5: 679222.46 | E5: 895982 | F5: 943046.47 | G5: 0 | H5: 1063583.2 | I5: 812863.55 | J5: 0 | K5: 420207.04 | L5: 444105 | M5: 524105.7 | N5: 408289 | O5: 580140.16 | P5: 109427.4 | Q5: 822631.01 | R5: 378088 | S5: 784362.2 | T5: 188693 | U5: 542554.04 | V5: 457849 | W5: 635276 | X5: 279500 | Y5: 336200 | Z5: 0 | AA5: 169200
A6: Coillte MOU Outdoor Recreation
A7: Community Centre Investment Fund | B7: 635583.94 | C7: 1372290.9 | D7: 1180066.5 | E7: 4685729.9 | F7: 2978174.4 | G7: 4682192 | H7: 4219145.6 | I7: 1916580.7 | J7: 1589742.4 | K7: 1423253.6 | L7: 763621.2 | M7: 839951.14 | N7: 2217523.9 | O7: 512159.15 | P7: 928206.88 | Q7: 2584282.7 | R7: 1803482.9 | S7: 1473471.6 | T7: 1061050.7 | U7: 1445714.7 | V7: 1175299.9 | W7: 1582866.7 | X7: 1415826.4 | Y7: 636803.43 | Z7: 1352163.1 | AA7: 1082056.3
A8: Community Enhancement Programme (Community Support Fund 2022) | B8: 283141 | C8: 285126 | D8: 301325 | E8: 716010 | F8: 374061 | G8: 1627601 | H8: 593082 | I8: 312671 | J8: 332848 | K8: 290749 | L8: 291487 | M8: 265201 | N8: 350591 | O8: 276585 | P8: 323952 | Q8: 322731 | R8: 314415 | S8: 277255 | T8: 298782 | U8: 279884 | V8: 282702 | W8: 338885 | X8: 320195 | Y8: 291654 | Z8: 340233 | AA8: 308834
A9: Community Development Pilot Programme | D9: 125000 | F9: 125000 | G9: 125000 | K9: 125000 | O9: 125000 | R9: 125000 | Z9: 125000
A10: Community Services Programme | B10: 273363 | C10: 262761 | D10: 1243394 | E10: 2443736 | F10: 3679891 | G10: 10088148 | H10: 2421629 | I10: 1684911 | J10: 443545 | K10: 556091 | L10: 378429 | M10: 1362351 | N10: 1677509 | O10: 415528 | P10: 1651462 | Q10: 3667335 | R10: 991787 | S10: 1186319 | T10: 1175904 | U10: 2302656 | V10: 769974 | W10: 713920 | X10: 1004221 | Y10: 1039738 | Z10: 2137585 | AA10: 1482514
A11: Community & Voluntary Energy Support Scheme (CVESS) | B11: 1726 | C11: 2801 | D11: 9017 | E11: 22295 | F11: 18817 | G11: 85069 | H11: 8569 | I11: 5592 | J11: 3548 | K11: 2917 | L11: 3399 | M11: 1552 | N11: 4492 | O11: 0 | P11: 7055 | Q11: 9068 | R11: 8398 | S11: 4265 | T11: 8794 | U11: 2889 | V11: 8739 | W11: 14024 | X11: 7401 | Y11: 0 | Z11: 4732 | AA11: 6564
A12: Digital Innovation Programme
A13: Dublin North East Inner City funding and legacy RAPID payments
A14: Empowering Communities Programme | E14: 140000 | F14: 120000 | G14: 620000 | H14: 140000 | J14: 140000 | N14: 110000 | O14: 120000 | Q14: 150000 | Y14: 140000 | Z14: 140000
A15: LEADER | B15: 1416574.3 | C15: 1614268.6 | D15: 1601079.6 | E15: 2159711.3 | F15: 2473198 | G15: 1347925.1 | H15: 1677658.3 | I15: 1174339.4 | J15: 930922.38 | K15: 1803752.3 | L15: 1742986.9 | M15: 900155.57 | N15: 1908146.7 | O15: 928449.19 | P15: 1572238.5 | Q15: 1686095.6 | R15: 889145.6 | S15: 1291845 | T15: 2016480.9 | U15: 1054777.9 | V15: 1113430.1 | W15: 2151614.1 | X15: 857884.31 | Y15: 1718789.3 | Z15: 1871125.7 | AA15: 1549284.6
A16: Libraries Capital Investment Programme | D16: 1701985.1 | G16: 83124.37 | L16: 739434.11
A17: Libraries Development | B17: 123728.04 | C17: 27888.06 | D17: 21770.46 | E17: 794078.06 | F17: 9446.03 | G17: =973202.72+144546.48 -> 1117749.2 | H17: 360086.33 | I17: 14404.5 | J17: 51008.57 | K17: 32288.22 | L17: 27035.51 | M17: 133196.61 | N17: 176227.01 | O17: 85632.97 | P17: 123897.11 | Q17: 50271.85 | R17: 221065.21 | S17: 134321.67 | T17: 192663 | U17: 7125.53 | V17: =11036.7+13750 -> 24786.7 | W17: 91365.66 | X17: 368006.57 | Y17: 267185.29 | Z17: 152613.76 | AA17: 23862.22
A18: Local Community Development Committees | B18: 58241 | C18: 79330 | D18: 168834 | E18: 173056 | F18: 69326 | G18: 209922 | H18: 152170 | I18: 79663 | J18: 30733 | K18: 31599 | L18: 35219 | M18: 34640 | N18: 65641 | O18: 73091 | P18: 73934 | Q18: 60986 | R18: 68718 | S18: 48426 | T18: 75392 | U18: 71175 | V18: 51815 | W18: 44766 | X18: 66864 | Y18: 64628 | Z18: 72560 | AA18: 79663
A19: Local Improvement Scheme | B19: 944082 | C19: 1273457 | D19: 1238015 | E19: 1298240 | F19: 1711214 | G19: 0 | H19: 1682841 | I19: 1495490 | J19: 435326 | K19: 628610 | L19: 860277 | M19: 1081038 | N19: 930989 | O19: 465940 | P19: 448273 | Q19: 610944 | R19: 569299 | S19: 932889 | T19: 674785 | U19: 571758 | V19: 358030 | W19: 1125773 | X19: 587176 | Y19: 656781 | Z19: 781027 | AA19: 637748
A20: Local/Regional Development Supports - B.4.1 Subhead
A21: Walks Scheme | B21: 0 | C21: 59221.41 | D21: 209674.87 | E21: 1520595.1 | F21: 200735.63 | G21: 1000 | H21: 193348.11 | I21: 684106.92 | J21: 0 | K21: 187491.46 | L21: 65321.83 | M21: 182359.28 | N21: 123785.85 | O21: 4800 | P21: 124156.39 | Q21: 620451.14 | R21: 0 | S21: 0 | T21: 23446.67 | U21: 389991.18 | V21: 154330.81 | W21: 389610.05 | X21: 120936.48 | Y21: 1000 | Z21: 105659 | AA21: 180215.4
A22: Outdoor Recreation Infrastructure Scheme | B22: 740800 | C22: 307012.04 | D22: 939336.29 | E22: 1033139.8 | F22: 1099150 | G22: 467200 | H22: 1322239.7 | I22: 1254404.9 | J22: 242183.51 | K22: 1202072 | L22: 473884.13 | M22: 703678.9 | N22: 415410.61 | O22: 629714.9 | P22: 30000 | Q22: 728276.04 | R22: 461612.75 | S22: 1071291.9 | T22: 194576.62 | U22: 1220140 | V22: 542795.5 | W22: 1169875 | X22: 788211.14 | Y22: 562313.75 | Z22: 886250 | AA22: 1272870
A23: Public Participation Networks(up to €75k per county | B23: 75700 | C23: 69259.2 | D23: 75700 | E23: 137141.58 | F23: 75700 | G23: 296823.11 | H23: 142571.89 | I23: 74244.06 | J23: 75700 | K23: 73427.21 | L23: 73315.68 | M23: 72200.8 | N23: 75700 | O23: 73423.62 | P23: 72705.53 | Q23: 69214.55 | R23: 74004.45 | S23: 75700 | T23: 74507.8 | U23: 50219 | V23: 72696.39 | W23: 75700 | X23: 63997.83 | Y23: 75700 | Z23: 73097.29 | AA23: 75700
A24: Rural Regeneration and Development Fund | B24: 222394 | C24: 7372463 | D24: 8082971 | E24: 21763573 | F24: 8161338 | G24: 0 | H24: 798584 | I24: 1691104 | J24: 4277661 | K24: 2207168 | L24: 1669315 | M24: 10606381 | N24: 600000 | O24: 1208707 | P24: 105348 | Q24: 10247673 | R24: 1916521 | S24: 3564464 | T24: 2809844 | U24: 5277232 | V24: 580000 | W24: 32027421 | X24: 7550164 | Y24: 3815200 | Z24: 814393 | AA24: 1034704
A25: SICAP Lots | B25: 636836 | C25: 880630 | D25: 1015442 | E25: 3663818 | F25: 2266823 | G25: 10796167 | H25: 2434500 | I25: 1767031 | J25: 1256797 | K25: 748753 | L25: 694860 | M25: 567409 | N25: 2389664 | O25: 584865 | P25: 1501838 | Q25: 1484438 | R25: 506425 | S25: 683136 | T25: 900768 | U25: 684094 | V25: 669418 | W25: 1427445 | X25: 1280970 | Y25: 909633 | Z25: 1945608 | AA25: 1471059
A26: SICAP Additional Funding for Ukrainian Arrivals | B26: 69619 | C26: 104564 | D26: 324929 | E26: 548044.66 | F26: 222933.02 | G26: 1011239.1 | H26: 279018.47 | I26: 369427.64 | J26: 100585 | K26: 89268 | L26: 83548 | M26: 90139 | N26: 208733.66 | O26: 46613 | P26: 139633.6 | Q26: 179531.07 | R26: 144235 | S26: 53080 | T26: 63526 | U26: 63899 | V26: 73101 | W26: 112377.08 | X26: 142369 | Y26: 101704 | Z26: 187512 | AA26: 210372.17
A27: Smart Community & Village Pilot Project
A28: Social Enterprise - ARISE | F28: 73200 | I28: 11500 | J28: 33755 | T28: 49300 | U28: 45000 | V28: 11049
A29: Social Enterprise - Small Capital Grants Scheme
A30: Social Enterprise - Virtual Event Hosting funding
A31: Tidy Towns | B31: 26000 | C31: 30000 | D31: 59000 | E31: 143000 | F31: 61000 | G31: 127000 | H31: 65000 | I31: 51000 | J31: 70000 | K31: 38000 | L31: 33000 | M31: 22000 | N31: 75000 | O31: 33000 | P31: 41000 | Q31: 40000 | R31: 62000 | S31: 28000 | T31: 30000 | U31: 35000 | V31: 31000 | W31: 107000 | X31: 25000 | Y31: 43000 | Z31: 46000 | AA31: 55000
A32: Town and Village Renewal | B32: =996600+1382769 -> 2379369 | C32: =1066187+1497440 -> 2563627 | D32: =783910+901073 -> 1684983 | E32: =379120+932853+75000+832000 -> 2218973 | F32: =440000+923234 -> 1363234 | H32: =458500+912075 -> 1370575 | I32: =698370+883768 -> 1582138 | J32: =209930+842950 -> 1052880 | K32: =1177860+350230 -> 1528090 | L32: =796352+917500 -> 1713852 | M32: =1157463+1181787 -> 2339250 | N32: =1050000+1536229 -> 2586229 | O32: =677093+569950 -> 1247043 | P32: =843466+336731 -> 1180197 | Q32: 1096843 | R32: =743506+985700 -> 1729206 | S32: =763394+1266395 -> 2029789 | T32: =486000+1375000 -> 1861000 | U32: =1000015+1252420 -> 2252435 | V32: =1350000+1220101 -> 2570101 | W32: =788000+1283571 -> 2071571 | X32: =725578+1025023 -> 1750601 | Y32: =307231+488008 -> 795239 | Z32: =970914+1428501 -> 2399415 | AA32: =310439+950299 -> 1260738
A33: TVRS Streetscape Enhancement Measure | B33: 100000 | C33: 100000 | D33: 100000 | E33: 63870 | F33: 100000 | H33: 100000 | I33: 100000 | J33: 100000 | K33: 100000 | L33: 100000 | M33: 100000 | N33: 100000 | O33: 99373 | P33: 84154.04 | Q33: 100000 | R33: 96000 | S33: 100000 | T33: 100000 | U33: 100000 | V33: 100000 | W33: 100000 | X33: 93600 | Y33: 66693 | Z33: 96400 | AA33: 98000
A34: Volunteering B3 | B34: 130000 | C34: 123000 | D34: 123000 | E34: 126800 | F34: 131800 | G34: 703500 | H34: 136200 | I34: 123000 | J34: 123000 | K34: 126910 | L34: 123000 | M34: 123000 | N34: 151528 | O34: 123000 | P34: 123000 | Q34: 123000 | R34: 123000 | S34: 123000 | T34: 129970 | U34: 123000 | V34: 123000 | W34: 158400 | X34: 128700 | Y34: 123000 | Z34: 129615 | AA34: 130800
A35: Volunteering Ukraine Supports | B35: 8813 | C35: 10564 | D35: 29315 | E35: 47564 | F35: 22391 | G35: 122353 | H35: 31510 | I35: 33895 | J35: 13473 | K35: 9457 | L35: 8974 | M35: 11208 | N35: 19965 | O35: 5843 | P35: 13724 | Q35: 15747 | R35: 13916 | S35: 5511 | T35: 7534 | U35: 7524 | V35: 12235 | W35: 9728 | X35: 14379 | Y35: 10564 | Z35: 43374 | AA35: 17489
A36: WiFi4EU
A37: Islands Funding Streams Current 2022
A38: Island Ferry Services | E38: 1377313 | F38: 511751 | H38: 2644579 | Q38: 644948
A39: Island Air Services | F39: 151970 | H39: 2690966
A40: Non-Gaeltacht Islands development company funding | E40: 259930 | H40: 125555 | Q40: 221840
...

Sheet Sheet1

Sheet Sheet2

Sheet 2021Allocations
A1: 2021 County by County Allocations
B2: Carlow | C2: Cavan | D2: Clare | E2: Cork | F2: Donegal | G2: Dublin | H2: Galway | I2: Kerry | J2: Kildare | K2: Kilkenny | L2: Laois | M2: Leitrim | N2: Limerick | O2: Longford | P2: Louth | Q2: Mayo | R2: Meath | S2: Monaghan | T2: Offaly | U2: Roscommon | V2: Sligo | W2: Tipperary | X2: Waterford | Y2: Westmeath | Z2: Wexford | AA2: Wicklow
A3: Scheme Name | B3: € | C3: € | D3: € | E3: € | F3: € | G3: € | H3: € | I3: € | J3: € | K3: € | L3: € | M3: € | N3: € | O3: € | P3: € | Q3: € | R3: € | S3: € | T3: € | U3: € | V3: € | W3: € | X3: € | Y3: € | Z3: € | AA3: €
A4: AEC Officer Payments(30k for LAs part of Atlantic Corridor ) | D4: 15000 | F4: 15000 | H4: 30000 | I4: 15000 | M4: 15000 | N4: 15000 | Q4: 15000 | U4: 15000 | V4: 15000
A5: BCP Capitation Grants T1 | D5: 545 | Q5: 1125.06 | R5: 2156 | S5: 792.61
A6: BCP support | W6: 869.88
A7: BCP RSP (Retail Service Provided) | B7: 4150.314 | C7: 8909.7029 | D7: 3014.0348 | E7: 13253.557 | F7: 8101.5977 | G7: =3406.04304002583+792.861075+1015.88769945205 -> 5214.7918 | H7: 5545.763 | I7: 6107.4972 | J7: 2406.4452 | K7: 4980.1931 | L7: 3322.2757 | M7: 6487.8778 | N7: 4655.9636 | O7: 5958.7262 | P7: 5523.9761 | Q7: 8844.9965 | R7: 7229.3139 | S7: 10608.658 | T7: 5742.9421 | U7: 6152.6206 | V7: 3198.25 | W7: 9996.5328 | X7: 3501.6444 | Y7: 4119.8446 | Z7: 8876.3554 | AA7: 4528.6468
A8: BCP Thematic Project | H8: 4500 | M8: 2066.4 | R8: =12037.5+4325 -> 16362.5 | T8: 10000 | U8: 1000 | W8: 10000
A9: BCP Launch Support | O9: 4921.15 | Q9: 2593.66 | T9: 681 | W9: 2541 | Y9: 4994
A10: Broadband Officer Payments (€42k per Local Authority) | B10: 21000 | C10: 21000 | D10: 21000 | E10: 42000 | F10: 21000 | G10: 84000 | H10: 72000 | I10: 21000 | J10: 21000 | K10: 21000 | L10: 21000 | M10: 21000 | N10: 21000 | O10: 21000 | P10: 21000 | Q10: 21000 | R10: 21000 | S10: 21000 | T10: 21000 | U10: 21000 | V10: 21000 | W10: 51000 | X10: 21000 | Y10: 21000 | Z10: 21000 | AA10: 21000
A11: CLÁR | B11: 89963 | C11: 391241.19 | D11: 358313 | E11: 401226.4 | F11: 383470 | G11: 0 | H11: 462368.13 | I11: 657472.99 | J11: 0 | K11: 57300 | L11: 179517.19 | M11: 386328.66 | N11: 183742 | O11: 399881.54 | P11: 80000 | Q11: 483295.22 | R11: 202454 | S11: 341184.37 | T11: 127879 | U11: 333307 | V11: 350782 | W11: 140108 | X11: 216181.8 | Y11: 163669.62 | Z11: 0 | AA11: 82257.13
A12: Community & Voluntary Covid19 Stability Scheme (DAF Funding / Community Policy Unit) | B12: 80866 | C12: 199593 | D12: 197603 | E12: 1106316 | F12: 126766 | G12: 2373581 | H12: 212054 | I12: 164415 | J12: 13905 | K12: 113802 | L12: 72563 | M12: 13775 | N12: 486459 | O12: 86233 | P12: 207816 | Q12: 457201 | R12: 196850 | S12: 146339 | T12: 108579 | U12: 133345 | V12: 100000 | W12: 80463 | X12: 211571 | Y12: 37000 | Z12: 92087 | AA12: 171319
A13: 2021 Community Enhancement Programme (launched 10th May) | B13: 134206 | C13: 134757 | D13: 139257 | E13: 310002 | F13: 159461 | G13: 674334 | H13: 275856 | I13: 142409 | J13: 148013 | K13: 136319 | L13: 136524 | M13: 129223 | N13: 152942 | O13: 132385 | P13: 145542 | Q13: 145203 | R13: 142893 | S13: 132571 | T13: 138550 | U13: 133301 | V13: 134084 | W13: 149690 | X13: 144499 | Y13: 136571 | Z13: 150065 | AA13: 141343
A14: Community Activities Fund under Community Enhancement Programme 2021 (launched 11th Nov) | B14: 268411 | C14: 269514 | D14: 278514 | E14: 620006 | F14: 318923 | G14: 1348667 | H14: 551712 | I14: 284817 | J14: 296027 | K14: 272638 | L14: 273048 | M14: 258445 | N14: 305884 | O14: 264769 | P14: 291084 | Q14: 290406 | R14: 285786 | S14: 265141 | T14: 277101 | U14: 266602 | V14: 268168 | W14: 299381 | X14: 288997 | Y14: 273141 | Z14: 300129 | AA14: 282686
A15: Community Development Pilot Programme | D15: 125000 | F15: 125000 | G15: 125000 | K15: 125000 | O15: 125000 | R15: 125000 | Z15: 125000
A16: Community Services Programme | B16: 319477.28 | C16: 241916.96 | D16: 1251534.1 | E16: 2685191 | F16: 3849632.1 | G16: 10597586 | H16: 2466526.1 | I16: 1827111.3 | J16: 508641.5 | K16: 626880.4 | L16: 424640.56 | M16: 1449807.2 | N16: 1823835.3 | O16: 439957.22 | P16: 1629943 | Q16: 3799634.8 | R16: 1074207 | S16: 1306078.2 | T16: 1380858.5 | U16: 2405426.6 | V16: 846661.84 | W16: 821367.24 | X16: 1132951.4 | Y16: 1090476.9 | Z16: 2397242.2 | AA16: 1618757.2
A17: Digital Innovation Programme | D17: 44000 | E17: 29000 | F17: 12800 | H17: 8000 | I17: 476800 | N17: 67560 | O17: 14000 | R17: 163518 | S17: 13500 | T17: 49289 | U17: 17400 | V17: 120000 | W17: 72000 | Y17: 52600 | Z17: 73200
A18: Dublin North East Inner City funding and legacy RAPID payments | G18: 6500000
A19: LEADER | B19: 68299.1 | C19: 1156776 | D19: 1810711.3 | E19: 3960302.6 | F19: 1571739.7 | G19: 1111771.4 | H19: 2180876.7 | I19: 2674962.3 | J19: 440541.56 | K19: 1984145 | L19: 586878.56 | M19: 528409.83 | N19: 1247154.1 | O19: 1221693.8 | P19: 335864.47 | Q19: 4317578.3 | R19: 618452.33 | S19: 1253539.8 | T19: 608248.5 | U19: 1618092 | V19: 695451.33 | W19: 2073982.3 | X19: 1152457.7 | Y19: 1024673.6 | Z19: 2008139.2 | AA19: 1260016.4
A20: Libraries Capital Investment Programme | E20: =126081+37275+21000+21000 -> 205356 | K20: 2245000 | R20: 36832 | S20: =1800000+20000 -> 1820000 | T20: 60558 | U20: 95250 | V20: 18700 | Y20: =22500+9492 -> 31992
A21: Libraries Development | B21: 13157.091 | C21: 17382.82 | D21: 18419.4 | E21: =17404.11+41469.74+19846.46 -> 78720.31 | F21: 20260.87 | G21: =472412.5+11786.2+26776.8+28621.85+51828.74 -> 591426.09 | H21: =123030+35180.1 -> 158210.1 | I21: 9634.07 | J21: =40000+26644.5 -> 66644.5 | K21: =12697.38+21525.74 -> 34223.12 | L21: 21296.78 | M21: 12671.52 | N21: 10188 | O21: 17490.85 | P21: 26161.898 | Q21: =35000+16643.89 -> 51643.89 | R21: 18797.09 | S21: 24293.49 | T21: 20392.8 | U21: 19263.96 | V21: =11458.5+22275 -> 33733.5 | W21: 14598.11 | X21: =22500+9399.41 -> 31899.41 | Y21: 16020 | Z21: 33395.27 | AA21: 24577.55
A22: Local Community Development Committees | B22: 58241 | C22: 79330 | D22: 168834 | E22: 173056 | F22: 69326 | G22: 209922 | H22: 152170 | I22: 79663 | J22: 30733 | K22: 31599 | L22: 35219 | M22: 34640 | N22: 65641 | O22: 73091 | P22: 73934 | Q22: 60986 | R22: 68718 | S22: 48426 | T22: 75392 | U22: 71175 | V22: 51815 | W22: 44766 | X22: 66864 | Y22: 64628 | Z22: 72560 | AA22: 79663
A23: Local Improvement Scheme | B23: 463931 | C23: 1119389 | D23: 828528 | E23: 1412738 | F23: 1188403 | G23: 0 | H23: 1580871 | I23: 1187099 | J23: 495586 | K23: 778682 | L23: 554259 | M23: 503830 | N23: 1504659 | O23: 393041 | P23: 417821 | Q23: 1361625 | R23: 803937 | S23: 1326223 | T23: 545240 | U23: 445495 | V23: 470542 | W23: 721531 | X23: 872759 | Y23: 628389 | Z23: 653786 | AA23: 741635
A24: Local/Regional Development Supports - B.4.1 Subhead | Q24: 66000
A25: National Walks Scheme | D25: 134452.87 | E25: 977175.64 | F25: 119624.78 | H25: 114445.31 | I25: 461123.12 | K25: 90768.29 | L25: 68617.95 | M25: 124633.68 | P25: 54001.63 | Q25: 314436.84 | U25: 204674.57 | V25: 103820.06 | W25: 265420.97 | AA25: 95893.04
A26: Outdoor Recreation Infrastructure Scheme | B26: =591163.43+526600 -> 1117763.4 | C26: =739464.6+883855.5 -> 1623320.1 | D26: =495715.4+435213.65 -> 930929.05 | E26: =1096841.2+887625.06 -> 1984466.3 | F26: =635199.3+723395.46 -> 1358594.8 | G26: =148500+402000 -> 550500 | H26: 2931236.7 | I26: =591711.89+1160098.98 -> 1751810.9 | J26: 206419.05 | K26: =526791+1122115 -> 1648906 | L26: =431025+272067.23 -> 703092.23 | M26: =484310+1075034 -> 1559344 | N26: =791298.51+583868.24 -> 1375166.8 | O26: =522745.45+654055.67 -> 1176801.1 | P26: =119453.87+246079 -> 365532.87 | Q26: =559800+525979 -> 1085779 | R26: =694683.38+975816.81 -> 1670500.2 | S26: =675045.19+661933.57 -> 1336978.8 | T26: =640665+318049 -> 958714 | U26: =953257.94+1019136.47 -> 1972394.4 | V26: =770650+616100 -> 1386750 | W26: =486343.71+759557.22 -> 1245900.9 | X26: =726333.55+619510.74 -> 1345844.3 | Y26: =415732+504819 -> 920551 | Z26: =671309.1+708062 -> 1379371.1 | AA26: =657585+994700 -> 1652285
A27: Public Participation Networks(up to €75k per county | B27: 70904.33 | C27: 50219 | D27: 75700 | E27: 49418.49 | F27: 62947.05 | G27: 276136.11 | H27: 142549.57 | I27: 71546.51 | J27: 65630.51 | K27: 62691.08 | L27: 61358.03 | M27: 61882.36 | N27: 49773.19 | O27: 62242.01 | P27: 75700 | Q27: 65787.18 | R27: 75700 | S27: 60274.14 | T27: 65170.3 | U27: 50219 | V27: 75700 | W27: 74275.65 | X27: 52441.72 | Y27: 71908.69 | Z27: 56519.6 | AA27: 75700
A28: Rural Regeneration and Development Fund | B28: -20231.39 | C28: 2211570 | D28: 299569 | E28: 4861211 | F28: 19066015 | G28: 0 | H28: 2552309 | I28: 2344415 | J28: 0 | K28: 2805478 | L28: 1094880 | M28: 5853836.9 | N28: 1880234 | O28: 6891201 | P28: 2864642 | Q28: 8835403 | R28: 1366286 | S28: 10765495 | T28: 0 | U28: 2174400 | V28: 351493 | W28: 4984713 | X28: 0 | Y28: 8294780 | Z28: 0 | AA28: 0
A29: SICAP Lots | B29: 563572 | C29: 779319 | D29: 898621 | E29: 3253984 | F29: 2069184 | G29: 9946662 | H29: 2318571 | I29: 1678487 | J29: 1092867 | K29: 651090 | L29: 604226 | M29: 540390 | N29: 2250989 | O29: 526906 | P29: 1353007 | Q29: 1308008 | R29: 405136 | S29: 650606 | T29: 783277 | U29: 616301 | V29: 603079 | W29: 1208587 | X29: 1154027 | Y29: 804985 | Z29: 1752800 | AA29: 1353749
A30: Smart Community & Village Pilot Project
A31: Social Enterprise - Funding Buysocial Website
A32: Social Enterprise - Small Capital Grants Scheme
A33: Social Enterprise - Virtual Event Hosting funding
A34: Tidy Towns not announced | B34: 27000 | C34: 37000 | D34: 63000 | E34: 149000 | F34: 65000 | G34: 139000 | H34: 72000 | I34: 59000 | J34: 73000 | K34: 38000 | L34: 36000 | M34: 23000 | N34: 80000 | O34: 36000 | P34: 40000 | Q34: 52000 | R34: 67000 | S34: 32000 | T34: 36000 | U34: 38000 | V34: 32000 | W34: 108000 | X34: 29000 | Y34: 49000 | Z34: 50000 | AA34: 53000
A35: Town and Village Renewal (announced 25 Feb 2022)
A36: TVRS Streetscape Enhancement Measure | B36: 261801 | C36: 285798 | D36: 334950 | E36: 452957 | F36: 308664.02 | G36: 46638 | H36: 392272.1 | I36: 220161 | J36: 43062.8 | K36: 157480 | L36: 260000 | M36: 285820 | N36: 291784 | O36: 236800 | P36: 232039 | Q36: 118946 | R36: 186996.7 | S36: 330064 | T36: 104500 | U36: 220000 | V36: 220000 | W36: 687587 | X36: 100000 | Y36: 91300 | Z36: 283444 | AA36: 382486
A37: Volunteering B3 | B37: 121000 | C37: 121000 | D37: 121000 | E37: 123800 | F37: 129800 | G37: 695500 | H37: 133200 | I37: 121000 | J37: 121000 | K37: 121000 | L37: 121000 | M37: 121000 | N37: 146600 | O37: 121000 | P37: 121000 | Q37: 121000 | R37: 121000 | S37: 121000 | T37: 121000 | U37: 121000 | V37: 121000 | W37: 156400 | X37: 121000 | Y37: 121000 | Z37: 121000 | AA37: 128800
A38: Volunteering Dormant Accounts
A39: WiFi4EU | D39: 25608.3 | G39: =27970.2+60000 -> 87970.2 | H39: 7000 | M39: 14793.15 | Q39: 30000 | R39: 10000 | U39: 2692.52 | V39: 7500 | W39: 15000
A40: Islands Funding Streams Current allocations 2021
...

Sheet 2021
A1: 2021 County by County Allocations
C2: Carlow | D2: Cavan | E2: Clare | F2: Cork | G2: Donegal | H2: Dublin | I2: Galway | J2: Kerry | K2: Kildare | L2: Kilkenny | M2: Laois | N2: Leitrim | O2: Limerick | P2: Longford | Q2: Louth | R2: Mayo
A3: Scheme Name | B3: 2021 Allocations | C3: € | D3: € | E3: € | F3: € | G3: € | H3: € | I3: € | J3: € | K3: € | L3: € | M3: € | N3: € | O3: € | P3: € | Q3: € | R3: €
A4: AEC Officer Payments(30k for LAs part of Atlantic Corridor )
A5: BCP Capitation Grants T1
A6: BCP Capitation Grants T2
A7: BCP RSP (Retail Service Provided)
A8: BCP Thematic Project: e-Health
A9: Broadband Officer Payments (€42k per Local Authority)
A10: CLÁR not announced
A11: Community & Voluntary Covid19 Stability Scheme (DAF Funding / Community Policy Unit) | B11: 360209 | G11: 57292 | H11: 186843 | K11: 6022 | Q11: 58203
A12: Community Enhancement Programme not announced
A13: Community Enhancement Programme for Community Centres/Facilities (Government July Stimilus Package)
A14: Community Services Programme | B14: 44130494 | C14: 281420.14 | D14: 211737.03 | E14: 1174784 | F14: 2379725 | G14: 3560203 | H14: 9801995.8 | I14: 2248907.7 | J14: 1698590.3 | K14: 420837.25 | L14: 546776.15 | M14: 387532.78 | N14: 1340037.7 | O14: 1688721.2 | P14: 469247 | Q14: 1499229 | R14: 3507561.8
A15: COVID-19 Emergency Fund
A16: COVID-19 Emergency Fund Additional Funding (Dec)
A17: Dublin North East Inner City funding and legacy RAPID payments | H17: 6500000
A18: LEADER | B18: 7804316 | C18: 281618 | D18: 288128.31 | E18: 717443.59 | F18: 53539.47 | G18: 567786.91 | H18: 268566.25 | I18: 84106.02 | J18: 0 | K18: 1112112.7 | L18: 22687.5 | M18: 0 | N18: 124189.77 | O18: 0 | P18: 53280 | Q18: 1371841.6 | R18: 0
A19: Libraries Capital Investment Programme | B19: 0
A20: Libraries Development | B20: 736793.99 | F20: 17404.11 | H20: 472412.5 | I20: 123030 | K20: 40000 | L20: 12697.38 | R20: 35000
A21: Local Community Development Committee: LCDCs not allocated yet. | B21: 0
A22: Local Improvement Scheme, not announced | B22: 0
A23: Local/Regional Development Supports - B.4.1 Subhead | B23: 66000 | R23: 66000
A24: National Walks Scheme | B24: 21000 | N24: 7200 | Q24: 7500
A25: Outdoor Recreation Infrastructure Scheme*
A26: Public Participation Networks(up to €75k per county
A27: Rural Regeneration Fund | B27: 1851365 | E27: 250819 | J27: 305324 | N27: 184658
A28: SICAP Lots | B28: 39168430 | C28: 563572 | D28: 779319 | E28: 898621 | F28: 3253984 | G28: 2069184 | H28: 9946662 | I28: 2318571 | J28: 1678487 | K28: 1092867 | L28: 651090 | M28: 604226 | N28: 540390 | O28: 2250989 | P28: 526906 | Q28: 1353007 | R28: 1308008
A29: Smart Community & Village Pilot Project | B29: 0
A30: Social Enterprise - Funding Buysocial Website | B30: 0
A31: Social Enterprise - Small Capital Grants Scheme | B31: 0
A32: Social Enterprise - Virtual Event Hosting funding | B32: 0
A33: Tidy Towns not announced | B33: 0
A34: Town and Village Renewal not announced | B34: 0
A35: Volunteering B3 | B35: 3813100 | C35: 121000 | D35: 121000 | E35: 121000 | F35: 123800 | G35: 129800 | H35: 695500 | I35: 133200 | J35: 121000 | K35: 121000 | L35: 121000 | M35: 121000 | N35: 121000 | O35: 146600 | P35: 121000 | Q35: 121000 | R35: 121000
A36: Volunteering Dormant Accounts | B36: 0
A37: WiFi4EU | B37: 0
A38: Islands Funding Streams Current allocations 2021 | B38: 0
A39: Donegal Ferry Services : See Comment for service details | B39: 90927.61 | G39: 90927.61
A40: Cork Ferry Service: See Comment for service details | B40: 234797.75 | F40: 234797.75
...

Sheet 2020
A1: 2020 County by County Allocations
B3: Mayo
A4: Scheme Name | B4: €
A5: AEC Officer Payments | B5: 30000
A6: Broadband connection points(BCP) Capitation Grants T1 | B6: 5400
A7: BCP RSP (Retail Service Provided) | B7: 940.58
A8: BCP Thematic Project: e-Health | B8: 35000
A9: Broadband Officer Payments | B9: 42000
A10: CLÁR | B10: 458420.82
A11: Community & Voluntary Covid19 Stability Scheme (DAF Funding / Community Policy Unit) | B11: 1521976
A12: Community Enhancement Programme | B12: 64546
A13: Community Enhancement Programme for Community Centres/Facilities (Government July Stimilus Package) | B13: 168258
A14: Community Services Programme | B14: 3599361.9
A15: COVID-19 Emergency Fund | B15: 76036
A16: COVID-19 Emergency Fund Additional Funding (Dec) | B16: 54878
A17: Dublin North East Inner City funding and legacy RAPID payments
A18: Local Community Development Committee: LCDCs | B18: 66067.76
A19: LEADER | B19: 2535691.2
A20: Libraries Capital Investment Programme | B20: 100000
A21: Libraries Development | B21: 73099
A22: Local Improvement Scheme | B22: 778496
A23: Local/Regional Development Supports - B.4.1 Subhead | B23: 156000
A24: National Walks Scheme | B24: 148607.85
A25: Outdoor Recreation Infrastructure Scheme | B25: 1459800
A26: Public Participation Networks | B26: 75700
A27: Rural Regeneration Fund | B27: 524116
A28: SICAP Lots | B28: 1308008
A29: Social Enterprise - Small Capital Grants Scheme | B29: 98060
... A34: WiFi4EU | B34: 30000
A37: Islands Funding Streams Current allocations 2020
A38: Mayo Ferry Service: See Comment for service details | B38: 536687.36
A39: County Totals 2020 | B39: =SUM(B6:B38) -> 15319101
A41: Seniors Alert Scheme Participants *approved participants for the Senior Alerts Scheme since 2015*: | B41: 2706

Sheet 2020 Allocations
A1: 2020 County by County Allocations
C3: Carlow | D3: Cavan | E3: Clare | F3: Cork | G3: Donegal | H3: Dublin | I3: Galway | J3: Kerry | K3: Kildare | L3: Kilkenny | M3: Laois | N3: Leitrim | O3: Limerick | P3: Longford | Q3: Louth | R3: Mayo | S3: Meath | T3: Monaghan | U3: Offaly | V3: Roscommon | W3: Sligo | X3: Tipperary | Y3: Waterford | Z3: Westmeath | AA3: Wexford | AB3: Wicklow
A4: Scheme Name | C4: € | D4: € | E4: € | F4: € | G4: € | H4: € | I4: € | J4: € | K4: € | L4: € | M4: € | N4: € | O4: € | P4: € | Q4: € | R4: € | S4: € | T4: € | U4: € | V4: € | W4: € | X4: € | Y4: € | Z4: € | AA4: € | AB4: €
A5: AEC Officer Payments | E5: 30000 | G5: 30000 | I5: 60000 | J5: 30000 | N5: 30000 | O5: 30000 | R5: 30000 | V5: 30000 | W5: 30000
A6: Broadband connection points(BCP) Capitation Grants T1 | C6: 4200 | D6: 6000 | E6: 6000 | F6: 13200 | G6: 7200 | H6: 4800 | I6: 12000 | J6: 7200 | K6: 5400 | L6: 6000 | M6: 6600 | N6: 7800 | O6: 5400 | P6: 5400 | Q6: 5400 | R6: 5400 | S6: 5400 | T6: 6600 | U6: 6000 | V6: 6000 | W6: 7200 | X6: 6000 | Y6: 6600 | Z6: 7200 | AA6: 6000 | AB6: 7200
A7: BCP Capitation Grants T2 | C7: 1800
A8: BCP RSP (Retail Service Provided) | C8: 605.08 | D8: 335.49 | E8: 670.99 | F8: 2079.78 | G8: 1782.18 | H8: 594.06 | I8: 542.62 | J8: 594.06 | K8: 335.49 | L8: 1369.75 | M8: 1017.5 | O8: 258.57 | P8: 682.01 | Q8: 1950.26 | R8: 940.58 | S8: 1821.21 | T8: 2181.96 | U8: 1006.48 | V8: 1063.99 | X8: 1150.23 | Y8: 594.06 | Z8: 517.13 | AB8: 929.55
A9: BCP Thematic Project: e-Health | G9: 35000 | R9: 35000 | W9: 30000
A10: Broadband Officer Payments | C10: 42000 | D10: 42000 | E10: 42000 | F10: 84000 | G10: 42000 | H10: 168000 | I10: 114000 | J10: 42000 | K10: 42000 | L10: 42000 | M10: 42000 | N10: 42000 | O10: 42000 | P10: 42000 | Q10: 42000 | R10: 42000 | S10: 42000 | T10: 42000 | U10: 42000 | V10: 42000 | W10: 42000 | X10: 72000 | Y10: 42000 | Z10: 42000 | AA10: 42000 | AB10: 42000
A11: CLÁR | C11: 143418.4 | D11: 374318.27 | E11: 332580 | F11: 273401.87 | G11: 339679.98 | H11: 0 | I11: 438878.26 | J11: 576715 | K11: 0 | L11: 77000 | M11: 166440 | N11: 347597 | O11: 145382 | P11: 362007.82 | Q11: 63500 | R11: 458420.82 | S11: 80600 | T11: 256614.23 | U11: 164143.68 | V11: 499231.15 | W11: 220620.88 | X11: 84225.54 | Y11: 148500 | Z11: 150000 | AA11: 0 | AB11: 60000
A12: Community & Voluntary Covid19 Stability Scheme (DAF Funding / Community Policy Unit) | C12: 336303 | D12: 393087 | E12: 656632 | F12: 4458213 | G12: 1126531 | H12: 17010069 | I12: 2266642 | J12: 1209814 | K12: 896813 | L12: 567365 | M12: 78643 | N12: 177071 | O12: 2796510 | P12: 447913 | Q12: 1004385 | R12: 1835563 | S12: 606017 | T12: 799707 | U12: 325081 | V12: 198052 | W12: 597657 | X12: 707883 | Y12: 883561 | Z12: 630703 | AA12: 697464 | AB12: 895036
A13: Community Enhancement Programme | C13: 56628 | D13: 57025 | E13: 60265 | F13: 143202 | G13: 74812 | H13: 325520 | I13: 118617 | J13: 62534 | K13: 66570 | L13: 58150 | M13: 58297 | N13: 53040 | O13: 70118 | P13: 55317 | Q13: 64790 | R13: 64546 | S13: 62883 | T13: 55451 | U13: 59756 | V13: 55977 | W13: 56540 | X13: 67777 | Y13: 64039 | Z13: 58331 | AA13: 68047 | AB13: 61767
A14: Community Enhancement Programme for Community Centres/Facilities (Government July Stimilus Package) | C14: 117494 | D14: 120039 | E14: 140810 | F14: 426973 | G14: 234073 | H14: 1104725 | I14: 269352 | J14: 155358 | K14: 181230 | L14: 127249 | M14: 128195 | N14: 94491 | O14: 203981 | P14: 109088 | Q14: 169823 | R14: 168258 | S14: 157594 | T14: 109947 | U14: 137549 | V14: 113318 | W14: 116932 | X14: 188971 | Y14: 165006 | Z14: 128410 | AA14: 190698 | AB14: 150438
A15: Community Services Programme | C15: 331163.42 | D15: 236661.52 | E15: 1230840 | F15: 2677628.1 | G15: 3530890.6 | H15: 10286400 | I15: 2330417.4 | J15: 1719263.5 | K15: 453452.85 | L15: 567465.51 | M15: 404100.34 | N15: 1406653.7 | O15: 1728423.9 | P15: 543313.37 | Q15: 1656257.2 | R15: 3599361.9 | S15: 1041409.4 | T15: 1228795.9 | U15: 1272147.2 | V15: 2153742.8 | W15: 807959.06 | X15: 731817.24 | Y15: 1096253 | Z15: 1093676.7 | AA15: 2392695.5 | AB15: 1612760
A16: COVID-19 Emergency Fund | C16: 61358 | D16: 65197 | E16: 73704 | F16: 208303 | G16: 81759 | H16: 468799 | I16: 151483 | J16: 79468 | K16: 94390 | L16: 69797 | M16: 66897 | N16: 56393 | O16: 88883 | P16: 58154 | Q16: 75713 | R16: 76036 | S16: 88912 | T16: 62247 | U16: 65553 | V16: 62877 | W16: 63074 | X16: 81831 | Y16: 73177 | Z16: 67710 | AA16: 79870 | AB16: 78414
A17: COVID-19 Emergency Fund Additional Funding (Dec) | C17: 44656 | D17: 45169 | E17: 49351 | F17: 127969 | G17: 68130 | H17: 306433 | I17: 96232 | J17: 52280 | K17: 57490 | L17: 46621 | M17: 46811 | N17: 40025 | O17: 62071 | P17: 42964 | Q17: 55193 | R17: 54878 | S17: 52730 | T17: 43137 | U17: 48694 | V17: 43815 | W17: 44543 | X17: 59048 | Y17: 54223 | Z17: 46854 | AA17: 59396 | AB17: 51290
A18: Dublin North East Inner City funding and legacy RAPID payments | H18: 6500000 | I18: 15490
A19: Local Community Development Committee: LCDCs | C19: 28776.78 | D19: 85941 | E19: 95502.2 | F19: 187476.73 | G19: 75103.28 | H19: 227415.62 | I19: 164851.12 | J19: 86301.75 | K19: 33294.17 | L19: 34232.07 | M19: 38153.48 | N19: 37526.35 | O19: 71111.43 | P19: 79182 | Q19: 80094.92 | R19: 66067.76 | S19: 74444.78 | T19: 52461.05 | U19: 81674.36 | V19: 77106.6 | W19: 25388.3 | X19: 48496.09 | Y19: 72435.88 | Z19: 70013.23 | AA19: 78606.17 | AB19: 86301.75
A20: LEADER | C20: 1764736.2 | D20: 2528003 | E20: 2218724.1 | F20: 4120813 | G20: 4131197.8 | H20: 2898123.8 | I20: 4345180.6 | J20: 1678460.4 | K20: 1478719.2 | L20: 2896550.2 | M20: 3675198.1 | N20: 2095186.6 | O20: 2505104.6 | P20: 3252174.4 | Q20: 1852293.8 | R20: 2535691.2 | S20: 2112897.2 | T20: 1955924.9 | U20: 2982150.5 | V20: 1799351.7 | W20: 1913089.8 | X20: 2485868 | Y20: 2081850.7 | Z20: 1993329 | AA20: 2757514.1 | AB20: 2653589.7
A21: LGBTI+ DORMANT ACCOUNTS FUND | E21: 35000 | F21: 37000 | H21: 35000 | I21: 10000 | M21: 5000 | P21: 10000 | Q21: 15000 | R21: 8000 | S21: 2000 | T21: 15000 | U21: 10000 | V21: 5000 | X21: 8000 | Y21: 5000
